BEGIN:VCALENDAR
VERSION:2.0
PRODID:-//Columbia County Humane Society - ECPv6.15.13//NONSGML v1.0//EN
CALSCALE:GREGORIAN
METHOD:PUBLISH
X-WR-CALNAME:Columbia County Humane Society
X-ORIGINAL-URL:https://cchswi.org
X-WR-CALDESC:Events for Columbia County Humane Society
REFRESH-INTERVAL;VALUE=DURATION:PT1H
X-Robots-Tag:noindex
X-PUBLISHED-TTL:PT1H
BEGIN:VTIMEZONE
TZID:America/Chicago
BEGIN:DAYLIGHT
TZOFFSETFROM:-0600
TZOFFSETTO:-0500
TZNAME:CDT
DTSTART:20180311T080000
END:DAYLIGHT
BEGIN:STANDARD
TZOFFSETFROM:-0500
TZOFFSETTO:-0600
TZNAME:CST
DTSTART:20181104T070000
END:STANDARD
BEGIN:DAYLIGHT
TZOFFSETFROM:-0600
TZOFFSETTO:-0500
TZNAME:CDT
DTSTART:20190310T080000
END:DAYLIGHT
BEGIN:STANDARD
TZOFFSETFROM:-0500
TZOFFSETTO:-0600
TZNAME:CST
DTSTART:20191103T070000
END:STANDARD
BEGIN:DAYLIGHT
TZOFFSETFROM:-0600
TZOFFSETTO:-0500
TZNAME:CDT
DTSTART:20200308T080000
END:DAYLIGHT
BEGIN:STANDARD
TZOFFSETFROM:-0500
TZOFFSETTO:-0600
TZNAME:CST
DTSTART:20201101T070000
END:STANDARD
BEGIN:DAYLIGHT
TZOFFSETFROM:-0600
TZOFFSETTO:-0500
TZNAME:CDT
DTSTART:20210314T080000
END:DAYLIGHT
BEGIN:STANDARD
TZOFFSETFROM:-0500
TZOFFSETTO:-0600
TZNAME:CST
DTSTART:20211107T070000
END:STANDARD
BEGIN:DAYLIGHT
TZOFFSETFROM:-0600
TZOFFSETTO:-0500
TZNAME:CDT
DTSTART:20220313T080000
END:DAYLIGHT
BEGIN:STANDARD
TZOFFSETFROM:-0500
TZOFFSETTO:-0600
TZNAME:CST
DTSTART:20221106T070000
END:STANDARD
BEGIN:DAYLIGHT
TZOFFSETFROM:-0600
TZOFFSETTO:-0500
TZNAME:CDT
DTSTART:20230312T080000
END:DAYLIGHT
BEGIN:STANDARD
TZOFFSETFROM:-0500
TZOFFSETTO:-0600
TZNAME:CST
DTSTART:20231105T070000
END:STANDARD
BEGIN:DAYLIGHT
TZOFFSETFROM:-0600
TZOFFSETTO:-0500
TZNAME:CDT
DTSTART:20240310T080000
END:DAYLIGHT
BEGIN:STANDARD
TZOFFSETFROM:-0500
TZOFFSETTO:-0600
TZNAME:CST
DTSTART:20241103T070000
END:STANDARD
END:VTIMEZONE
BEGIN:VEVENT
DTSTART;TZID=America/Chicago:20230910T094500
DTEND;TZID=America/Chicago:20230910T120000
DTSTAMP:20260423T123017
CREATED:20230822T155248Z
LAST-MODIFIED:20230822T155407Z
UID:3725-1694339100-1694347200@cchswi.org
SUMMARY:CCHS Lure Dash
DESCRIPTION:
URL:https://cchswi.org/event/cchs-lure-dash-2/
LOCATION:Bethlehem Lutheran Church\, W8267 Hwy 33\, Portage\, WI\, United States
ORGANIZER;CN="Columbia County Humane Society":MAILTO:savink9s@aol.com
END:VEVENT
BEGIN:VEVENT
DTSTART;VALUE=DATE:20230603
DTEND;VALUE=DATE:20230604
DTSTAMP:20260423T123017
CREATED:20230428T143135Z
LAST-MODIFIED:20230428T143135Z
UID:3678-1685750400-1685836799@cchswi.org
SUMMARY:CCHS Lure Dash
DESCRIPTION:
URL:https://cchswi.org/event/cchs-lure-dash/
LOCATION:Columbia County Fairgrounds\, 405 Superior Street\, Portage\, WI\, 53901\, United States
ORGANIZER;CN="Columbia County Humane Society":MAILTO:savink9s@aol.com
END:VEVENT
BEGIN:VEVENT
DTSTART;TZID=America/Chicago:20230520T120000
DTEND;TZID=America/Chicago:20230520T130000
DTSTAMP:20260423T123017
CREATED:20230428T144428Z
LAST-MODIFIED:20230428T144428Z
UID:3682-1684584000-1684587600@cchswi.org
SUMMARY:Kitten Karma Yoga
DESCRIPTION:You gotta be kitten me!\nThe Columbia County Humane Society (CCHS) and Bee Alive Yoga Studio have collaborated to bring you: Kitten Karma! Enjoy your flow while joined by some furry friends.\nAttendees of the event will receive 20% off adoption fees at CCHS\, valid until September 2023 (some terms do apply)! Tickets can be found following the link below or on our website\, get them soon\, we expect this event to be very paw-pular!\nTo further help CCHS save our favorite furry friends\, there will be a donation basket at the event.\nDonations needed include:\nNon-clumping Litter\nGround Canned Dog Food\nDry Puppy Food\nDog Treats\nVitamin C\nNylabones\nPaper Towels\nHand Soap\nDawn Dish Soap\nBleach\nCopy Paper\n#10 Peel and Seal Envelopes\nMonetary donations are always appreciated as well.\nBe prepared to have a purrcisely fantastic time!
URL:https://cchswi.org/event/kitten-karma-yoga/
LOCATION:Bee Alive Yoga Studio\, 230 W Wisconsin Street\, Portage\, WI\, 53901\, United States
ORGANIZER;CN="Bee Alive Yoga Studio":MAILTO:beealiveyoga@gmail.com
END:VEVENT
BEGIN:VEVENT
DTSTART;TZID=America/Chicago:20230426T160000
DTEND;TZID=America/Chicago:20230426T200000
DTSTAMP:20260423T123017
CREATED:20230414T144004Z
LAST-MODIFIED:20230414T144344Z
UID:3672-1682524800-1682539200@cchswi.org
SUMMARY:Pizza Ranch Fundraiser for CCHS
DESCRIPTION:Join us Wednesday April 26th from 4pm-8pm at the Pizza Ranch in Portage. A portion of their sales for the evening will be donated to CCHS! Great Food-Great Cause! All you have to do is plan an evening out with the family to have dinner and we will benefit! We can’t wait to see you!
URL:https://cchswi.org/event/pizza-ranch-fundraiser-for-cchs-3/
LOCATION:Pizza Ranch\, 2905 New Pinery Rd\, Portage\, 53901\, United States
ORGANIZER;CN="Columbia County Humane Society":MAILTO:savink9s@aol.com
END:VEVENT
BEGIN:VEVENT
DTSTART;TZID=America/Chicago:20230408T110000
DTEND;TZID=America/Chicago:20230408T150000
DTSTAMP:20260423T123017
CREATED:20230321T144416Z
LAST-MODIFIED:20230321T144416Z
UID:3658-1680951600-1680966000@cchswi.org
SUMMARY:Spring Open House
DESCRIPTION:
URL:https://cchswi.org/event/spring-open-house/
LOCATION:Columbia County Humane Society\, N7768 Industrial Rd\, Portage\, 53901\, United States
ORGANIZER;CN="Columbia County Humane Society":MAILTO:savink9s@aol.com
END:VEVENT
BEGIN:VEVENT
DTSTART;TZID=America/Chicago:20230306T170000
DTEND;TZID=America/Chicago:20230306T200000
DTSTAMP:20260423T123017
CREATED:20230223T203939Z
LAST-MODIFIED:20230223T203939Z
UID:3646-1678122000-1678132800@cchswi.org
SUMMARY:Culver's Fundraiser for CCHS
DESCRIPTION:Join us at the Culver’s Fundraiser Night for CCHS.  A portion of their sales will be donated to CCHS!  Come and eat some good food and help a good cause.
URL:https://cchswi.org/event/culvers-fundraiser-for-cchs/
LOCATION:Culver’s Portage WI\, 2733 New Pinery Rd\, Portage\, WI\, United States
ORGANIZER;CN="Columbia County Humane Society":MAILTO:savink9s@aol.com
END:VEVENT
BEGIN:VEVENT
DTSTART;TZID=America/Chicago:20220827T110000
DTEND;TZID=America/Chicago:20220827T120000
DTSTAMP:20260423T123017
CREATED:20220823T153408Z
LAST-MODIFIED:20220823T153408Z
UID:3563-1661598000-1661601600@cchswi.org
SUMMARY:Bee Alive Yoga Event for CCHS
DESCRIPTION:
URL:https://cchswi.org/event/bee-alive-yoga-event-for-cchs/
ORGANIZER;CN="Bee Alive Yoga Studio":MAILTO:beealiveyoga@gmail.com
END:VEVENT
BEGIN:VEVENT
DTSTART;VALUE=DATE:20220814
DTEND;VALUE=DATE:20220815
DTSTAMP:20260423T123017
CREATED:20220422T144410Z
LAST-MODIFIED:20220505T155859Z
UID:3506-1660435200-1660521599@cchswi.org
SUMMARY:Cruisin for Critters 2022
DESCRIPTION:This event is a benefit for the Columbia County Humane Society.  Bring your motorcycle or other vehicle to go on a ride to support your local humane society.  Check in is between 8am-10am at Johnson’s Sales on Hwy 51.  Lunch is included with your paid entry fee.  There’s a designated ride route and trivia along the way! Gather for lunch.  There is also a cash raffle happening!  Get your tickets at CCHS\, Johnson’s Sales or from a CCHS Board Member or Star Chapter 166 members.  Join us to raise funds for your local humane society!  
URL:https://cchswi.org/event/cruisin-for-critters-2022/
LOCATION:Johnson Sales on Hwy 51\, N1255 Hwy 51\, Arlington\, WI
END:VEVENT
BEGIN:VEVENT
DTSTART;TZID=America/Chicago:20210809T200000
DTEND;TZID=America/Chicago:20210809T200000
DTSTAMP:20260423T123017
CREATED:20210430T143058Z
LAST-MODIFIED:20210430T143418Z
UID:3345-1628539200-1628539200@cchswi.org
SUMMARY:Cruisin for Critters Raffle Ticket sales
DESCRIPTION:Starting Saturday May 1st\, CCHS will have raffle tickets for sale at the shelter for our Cruisin for Critters fundraiser. Stop out on Saturday from 11am-3pm\, call when you arrive and a staff member would be happy to assist you. Other available times for purchase are: Mon\, Tues\, Thurs\, Fri: 12pm-5pm. Cash preferred. Checks accepted with ID. Thank you!  Drawing is August 9th at 8pm.  Need not be present to win!  Click the find out more link for more info on prizes! \n 
URL:https://cchswi.org/event/cruisin-for-critters-raffle-ticket-sales/
LOCATION:Johnson Sales on Hwy 51\, N1255 Hwy 51\, Arlington\, WI
END:VEVENT
BEGIN:VEVENT
DTSTART;TZID=America/Chicago:20191207T110000
DTEND;TZID=America/Chicago:20191207T150000
DTSTAMP:20260423T123017
CREATED:20191112T170841Z
LAST-MODIFIED:20191112T215309Z
UID:2555-1575716400-1575730800@cchswi.org
SUMMARY:Bring your Paws to Santa Claus Photo Event
DESCRIPTION:CCHS’ Bring your Paws to Santa Claus Photo Event.\nSaturday December 7th from 11am-3pm. Register by calling CCHS 608-742-3666. Sign-up is in 15 minute increments. Registration preferred but we will fit in walk-in appointments. Cost: $15 donation to CCHS and you get free photo.\nPackages available and CCHS receives 50% of sales on packages. Please make sure your pets are up to date on vaccinations. 10% off a dog walk from Leapz and Boundz Walking Service(in select locations)\n Hurry! These reserved spots go fast!\nPhotographer: Shelley Miller-Just a Moment Photography      https://www.facebook.com/JustAMomentPhotographyLLC/
URL:https://cchswi.org/event/bring-your-paws-to-santa-claus-photo-event/
LOCATION:Columbia County Humane Society\, N7768 Industrial Rd\, Portage\, 53901\, United States
ORGANIZER;CN="Columbia County Humane Society":MAILTO:savink9s@aol.com
END:VEVENT
BEGIN:VEVENT
DTSTART;TZID=America/Chicago:20191030T160000
DTEND;TZID=America/Chicago:20191030T200000
DTSTAMP:20260423T123017
CREATED:20191009T154355Z
LAST-MODIFIED:20191009T154355Z
UID:2536-1572451200-1572465600@cchswi.org
SUMMARY:Pizza Ranch Fundraiser for CCHS
DESCRIPTION:
URL:https://cchswi.org/event/pizza-ranch-fundraiser-for-cchs-2/
LOCATION:Pizza Ranch\, 2905 New Pinery Rd\, Portage\, 53901\, United States
END:VEVENT
BEGIN:VEVENT
DTSTART;TZID=America/Chicago:20191012T110000
DTEND;TZID=America/Chicago:20191012T150000
DTSTAMP:20260423T123017
CREATED:20191009T154138Z
LAST-MODIFIED:20191010T150054Z
UID:2531-1570878000-1570892400@cchswi.org
SUMMARY:CCHS Open House
DESCRIPTION:  \nJoin us for our open house on Saturday October 12th from 11am-3pm \n**ADOPTION SPECIALS**\n**PURSE SALE**\n**MEET STAFF & BOARD MEMBERS**\n**REFRESHMENTS AND TREATS**\n**TALK TO STAFF\, BOARD MEMBERS AND VOLUNTEERS ABOUT OUR MISSION**\n**Open House Adoption Celebration! Huge announcement! Adoptions needed. Fees for adult cats are waived! Kittens will be reduced to $35 plus tax. Adult dog adoption fees are reduced to $125. There are no reduced fees for puppies. Help us spread the word by sharing! This is a one day event only taking place during our open house Saturday 10/12/19 from 11am-3pm. We will be fully staffed and have volunteers and board members helping but be prepared to have a wait. This event will be huge! Stop out and adopt a cat\, dog or kitten at greatly reduced or waived fees. Regular adoption process applies so help beat the rush by getting pre-approved at www.cchswi.org. Yay!**\n \n  \n  \n 
URL:https://cchswi.org/event/cchs-open-house-2/
LOCATION:Columbia County Humane Society\, N7768 Industrial Rd\, Portage\, 53901\, United States
ORGANIZER;CN="Columbia County Humane Society":MAILTO:savink9s@aol.com
END:VEVENT
BEGIN:VEVENT
DTSTART;TZID=America/Chicago:20190811T080000
DTEND;TZID=America/Chicago:20190811T140000
DTSTAMP:20260423T123017
CREATED:20190604T135231Z
LAST-MODIFIED:20190604T135231Z
UID:2451-1565510400-1565532000@cchswi.org
SUMMARY:Cruisin for Critters
DESCRIPTION:
URL:https://cchswi.org/event/cruisin-for-critters/
LOCATION:Johnson Sales on Hwy 51\, N1255 Hwy 51\, Arlington\, WI
END:VEVENT
BEGIN:VEVENT
DTSTART;VALUE=DATE:20190516
DTEND;VALUE=DATE:20190519
DTSTAMP:20260423T123017
CREATED:20190427T143056Z
LAST-MODIFIED:20190507T145345Z
UID:2431-1557964800-1558223999@cchswi.org
SUMMARY:CCHS Garage Sale
DESCRIPTION:  \nCCHS is having a sale! All proceeds benefit the animals at CCHS.  Dates:  May 16th-17th 9am-4pm and May 18th 8am-12pm.  All items are new or gently used. Stop out and browse the selection and purchase items to raise money for CCHS!
URL:https://cchswi.org/event/cchs-garage-sale/
LOCATION:Columbia County Humane Society\, N7768 Industrial Rd\, Portage\, 53901\, United States
ORGANIZER;CN="Columbia County Humane Society":MAILTO:savink9s@aol.com
END:VEVENT
BEGIN:VEVENT
DTSTART;TZID=America/Chicago:20190424T160000
DTEND;TZID=America/Chicago:20190424T200000
DTSTAMP:20260423T123017
CREATED:20190403T174709Z
LAST-MODIFIED:20190403T174709Z
UID:2041-1556121600-1556136000@cchswi.org
SUMMARY:Pizza Ranch Fundraiser for CCHS
DESCRIPTION:Do you like to eat out with your family? Join us Wednesday\, October 10th\, 2018 from 4:00pm-8:00pm at Pizza Ranch in Portage for our fundraiser. 10% of sales will go to CCHS. Bring your family\, friends and neighbors to support our cause.
URL:https://cchswi.org/event/pizza-ranch-fundraiser-for-cchs/
LOCATION:Pizza Ranch\, 2905 New Pinery Rd\, Portage\, 53901\, United States
END:VEVENT
BEGIN:VEVENT
DTSTART;TZID=America/Chicago:20190413T110000
DTEND;TZID=America/Chicago:20190413T150000
DTSTAMP:20260423T123017
CREATED:20190403T171413Z
LAST-MODIFIED:20190403T171841Z
UID:2037-1555153200-1555167600@cchswi.org
SUMMARY:CCHS Open House
DESCRIPTION:Join us Saturday April 13th\, 2019 for our Spring Open House. Meet the staff and Board Members. View the cats in the adoption room\, see what dogs we have available for adoption and possibly meet them in person outside the kennels. Enjoy the free refreshments on site. We can’t wait to meet our supporters! The Open House takes place during our normal business hours from 11am-3pm. See you there!
URL:https://cchswi.org/event/cchs-open-house/
LOCATION:Columbia County Humane Society\, N7768 Industrial Rd\, Portage\, 53901\, United States
ORGANIZER;CN="Columbia County Humane Society":MAILTO:savink9s@aol.com
END:VEVENT
END:VCALENDAR