BEGIN:VCALENDAR
VERSION:2.0
PRODID:-//Columbia County Humane Society - ECPv6.15.13//NONSGML v1.0//EN
CALSCALE:GREGORIAN
METHOD:PUBLISH
X-WR-CALNAME:Columbia County Humane Society
X-ORIGINAL-URL:https://cchswi.org
X-WR-CALDESC:Events for Columbia County Humane Society
REFRESH-INTERVAL;VALUE=DURATION:PT1H
X-Robots-Tag:noindex
X-PUBLISHED-TTL:PT1H
BEGIN:VTIMEZONE
TZID:America/Chicago
BEGIN:DAYLIGHT
TZOFFSETFROM:-0600
TZOFFSETTO:-0500
TZNAME:CDT
DTSTART:20250309T080000
END:DAYLIGHT
BEGIN:STANDARD
TZOFFSETFROM:-0500
TZOFFSETTO:-0600
TZNAME:CST
DTSTART:20251102T070000
END:STANDARD
BEGIN:DAYLIGHT
TZOFFSETFROM:-0600
TZOFFSETTO:-0500
TZNAME:CDT
DTSTART:20260308T080000
END:DAYLIGHT
BEGIN:STANDARD
TZOFFSETFROM:-0500
TZOFFSETTO:-0600
TZNAME:CST
DTSTART:20261101T070000
END:STANDARD
BEGIN:DAYLIGHT
TZOFFSETFROM:-0600
TZOFFSETTO:-0500
TZNAME:CDT
DTSTART:20270314T080000
END:DAYLIGHT
BEGIN:STANDARD
TZOFFSETFROM:-0500
TZOFFSETTO:-0600
TZNAME:CST
DTSTART:20271107T070000
END:STANDARD
END:VTIMEZONE
BEGIN:VEVENT
DTSTART;TZID=America/Chicago:20260426T090000
DTEND;TZID=America/Chicago:20260426T100000
DTSTAMP:20260423T091515
CREATED:20260408T172841Z
LAST-MODIFIED:20260408T172841Z
UID:4209-1777194000-1777197600@cchswi.org
SUMMARY:Yoga for CCHS
DESCRIPTION:Join us for an hour of relaxing\, feel‑good yoga at CCHS — all to support the animals in our care. Stretch\, breathe\, and help pets in need while enjoying a peaceful start to your morning.\n\n Dates: April 26 & May 3 Time: 9:00 AM Cost: $25 per person\n\nHave a mat? Bring it along!Need one? We’ll have mats available for use.\nAll proceeds benefit the Columbia County Humane Society.\nSign up by emailing volunteercoordinatorcchs@gmail.com
URL:https://cchswi.org/event/yoga-for-cchs/
LOCATION:Columbia County Humane Society\, N7768 Industrial Rd\, Portage\, 53901\, United States
ORGANIZER;CN="Columbia County Humane Society":MAILTO:savink9s@aol.com
END:VEVENT
BEGIN:VEVENT
DTSTART;TZID=America/Chicago:20260503T090000
DTEND;TZID=America/Chicago:20260503T103000
DTSTAMP:20260423T091515
CREATED:20260408T173027Z
LAST-MODIFIED:20260408T173027Z
UID:4212-1777798800-1777804200@cchswi.org
SUMMARY:Yoga for CCHS
DESCRIPTION:Join us for an hour of relaxing\, feel‑good yoga at CCHS — all to support the animals in our care. Stretch\, breathe\, and help pets in need while enjoying a peaceful start to your morning.\n\n Dates: April 26 & May 3 Time: 9:00 AM Cost: $25 per person\n\nHave a mat? Bring it along!Need one? We’ll have mats available for use.\nAll proceeds benefit the Columbia County Humane Society.\n\nSign up by emailing volunteercoordinatorcchs@gmail.com
URL:https://cchswi.org/event/yoga-for-cchs-2/
LOCATION:Columbia County Humane Society\, N7768 Industrial Rd\, Portage\, 53901\, United States
ORGANIZER;CN="Columbia County Humane Society":MAILTO:savink9s@aol.com
END:VEVENT
END:VCALENDAR